BEGIN:VCALENDAR
METHOD:PUBLISH
VERSION:2.0
PRODID:-//IGD//IGD//IT
BEGIN:VEVENT
SUMMARY:Going ex-dividend 2023
UID:46447
DTSTART:20230507T220000Z
DTEND:20230507T220000Z
LAST-MODIFIED:20230308T000000Z
LOCATION:
END:VEVENT
END:VCALENDAR