BEGIN:VCALENDAR
METHOD:PUBLISH
VERSION:2.0
PRODID:-//IGD//IGD//IT
BEGIN:VEVENT
SUMMARY:Conference call to present the results as at 31 December 2022 – dial-in details
UID:45255
DTSTART:20230222T230000Z
DTEND:20230222T230000Z
LAST-MODIFIED:20230308T000000Z
LOCATION:
END:VEVENT
END:VCALENDAR