BEGIN:VCALENDAR
METHOD:PUBLISH
VERSION:2.0
PRODID:-//IGD//IGD//IT
BEGIN:VEVENT
SUMMARY:Blocking period January/February 2023
UID:44673
DTSTART:20230123T230000Z
DTEND:20230123T230000Z
LAST-MODIFIED:20221219T000000Z
LOCATION:
END:VEVENT
BEGIN:VEVENT
SUMMARY:Blocking period January/February 2023
UID:44673
DTSTART:20230124T230000Z
DTEND:20230124T230000Z
LAST-MODIFIED:20221219T000000Z
LOCATION:
END:VEVENT
BEGIN:VEVENT
SUMMARY:Blocking period January/February 2023
UID:44673
DTSTART:20230125T230000Z
DTEND:20230125T230000Z
LAST-MODIFIED:20221219T000000Z
LOCATION:
END:VEVENT
BEGIN:VEVENT
SUMMARY:Blocking period January/February 2023
UID:44673
DTSTART:20230126T230000Z
DTEND:20230126T230000Z
LAST-MODIFIED:20221219T000000Z
LOCATION:
END:VEVENT
BEGIN:VEVENT
SUMMARY:Blocking period January/February 2023
UID:44673
DTSTART:20230127T230000Z
DTEND:20230127T230000Z
LAST-MODIFIED:20221219T000000Z
LOCATION:
END:VEVENT
BEGIN:VEVENT
SUMMARY:Blocking period January/February 2023
UID:44673
DTSTART:20230128T230000Z
DTEND:20230128T230000Z
LAST-MODIFIED:20221219T000000Z
LOCATION:
END:VEVENT
BEGIN:VEVENT
SUMMARY:Blocking period January/February 2023
UID:44673
DTSTART:20230129T230000Z
DTEND:20230129T230000Z
LAST-MODIFIED:20221219T000000Z
LOCATION:
END:VEVENT
BEGIN:VEVENT
SUMMARY:Blocking period January/February 2023
UID:44673
DTSTART:20230130T230000Z
DTEND:20230130T230000Z
LAST-MODIFIED:20221219T000000Z
LOCATION:
END:VEVENT
BEGIN:VEVENT
SUMMARY:Blocking period January/February 2023
UID:44673
DTSTART:20230131T230000Z
DTEND:20230131T230000Z
LAST-MODIFIED:20221219T000000Z
LOCATION:
END:VEVENT
BEGIN:VEVENT
SUMMARY:Blocking period January/February 2023
UID:44673
DTSTART:20230201T230000Z
DTEND:20230201T230000Z
LAST-MODIFIED:20221219T000000Z
LOCATION:
END:VEVENT
BEGIN:VEVENT
SUMMARY:Blocking period January/February 2023
UID:44673
DTSTART:20230202T230000Z
DTEND:20230202T230000Z
LAST-MODIFIED:20221219T000000Z
LOCATION:
END:VEVENT
BEGIN:VEVENT
SUMMARY:Blocking period January/February 2023
UID:44673
DTSTART:20230203T230000Z
DTEND:20230203T230000Z
LAST-MODIFIED:20221219T000000Z
LOCATION:
END:VEVENT
BEGIN:VEVENT
SUMMARY:Blocking period January/February 2023
UID:44673
DTSTART:20230204T230000Z
DTEND:20230204T230000Z
LAST-MODIFIED:20221219T000000Z
LOCATION:
END:VEVENT
BEGIN:VEVENT
SUMMARY:Blocking period January/February 2023
UID:44673
DTSTART:20230205T230000Z
DTEND:20230205T230000Z
LAST-MODIFIED:20221219T000000Z
LOCATION:
END:VEVENT
BEGIN:VEVENT
SUMMARY:Blocking period January/February 2023
UID:44673
DTSTART:20230206T230000Z
DTEND:20230206T230000Z
LAST-MODIFIED:20221219T000000Z
LOCATION:
END:VEVENT
BEGIN:VEVENT
SUMMARY:Blocking period January/February 2023
UID:44673
DTSTART:20230207T230000Z
DTEND:20230207T230000Z
LAST-MODIFIED:20221219T000000Z
LOCATION:
END:VEVENT
BEGIN:VEVENT
SUMMARY:Blocking period January/February 2023
UID:44673
DTSTART:20230208T230000Z
DTEND:20230208T230000Z
LAST-MODIFIED:20221219T000000Z
LOCATION:
END:VEVENT
BEGIN:VEVENT
SUMMARY:Blocking period January/February 2023
UID:44673
DTSTART:20230209T230000Z
DTEND:20230209T230000Z
LAST-MODIFIED:20221219T000000Z
LOCATION:
END:VEVENT
BEGIN:VEVENT
SUMMARY:Blocking period January/February 2023
UID:44673
DTSTART:20230210T230000Z
DTEND:20230210T230000Z
LAST-MODIFIED:20221219T000000Z
LOCATION:
END:VEVENT
BEGIN:VEVENT
SUMMARY:Blocking period January/February 2023
UID:44673
DTSTART:20230211T230000Z
DTEND:20230211T230000Z
LAST-MODIFIED:20221219T000000Z
LOCATION:
END:VEVENT
BEGIN:VEVENT
SUMMARY:Blocking period January/February 2023
UID:44673
DTSTART:20230212T230000Z
DTEND:20230212T230000Z
LAST-MODIFIED:20221219T000000Z
LOCATION:
END:VEVENT
BEGIN:VEVENT
SUMMARY:Blocking period January/February 2023
UID:44673
DTSTART:20230213T230000Z
DTEND:20230213T230000Z
LAST-MODIFIED:20221219T000000Z
LOCATION:
END:VEVENT
BEGIN:VEVENT
SUMMARY:Blocking period January/February 2023
UID:44673
DTSTART:20230214T230000Z
DTEND:20230214T230000Z
LAST-MODIFIED:20221219T000000Z
LOCATION:
END:VEVENT
BEGIN:VEVENT
SUMMARY:Blocking period January/February 2023
UID:44673
DTSTART:20230215T230000Z
DTEND:20230215T230000Z
LAST-MODIFIED:20221219T000000Z
LOCATION:
END:VEVENT
BEGIN:VEVENT
SUMMARY:Blocking period January/February 2023
UID:44673
DTSTART:20230216T230000Z
DTEND:20230216T230000Z
LAST-MODIFIED:20221219T000000Z
LOCATION:
END:VEVENT
BEGIN:VEVENT
SUMMARY:Blocking period January/February 2023
UID:44673
DTSTART:20230217T230000Z
DTEND:20230217T230000Z
LAST-MODIFIED:20221219T000000Z
LOCATION:
END:VEVENT
BEGIN:VEVENT
SUMMARY:Blocking period January/February 2023
UID:44673
DTSTART:20230218T230000Z
DTEND:20230218T230000Z
LAST-MODIFIED:20221219T000000Z
LOCATION:
END:VEVENT
BEGIN:VEVENT
SUMMARY:Blocking period January/February 2023
UID:44673
DTSTART:20230219T230000Z
DTEND:20230219T230000Z
LAST-MODIFIED:20221219T000000Z
LOCATION:
END:VEVENT
BEGIN:VEVENT
SUMMARY:Blocking period January/February 2023
UID:44673
DTSTART:20230220T230000Z
DTEND:20230220T230000Z
LAST-MODIFIED:20221219T000000Z
LOCATION:
END:VEVENT
BEGIN:VEVENT
SUMMARY:Blocking period January/February 2023
UID:44673
DTSTART:20230221T230000Z
DTEND:20230221T230000Z
LAST-MODIFIED:20221219T000000Z
LOCATION:
END:VEVENT
END:VCALENDAR