BEGIN:VCALENDAR
METHOD:PUBLISH
VERSION:2.0
PRODID:-//IGD//IGD//IT
BEGIN:VEVENT
SUMMARY:Blocking period April/May 2023
UID:44669
DTSTART:20230403T220000Z
DTEND:20230403T220000Z
LAST-MODIFIED:20221219T000000Z
LOCATION:
END:VEVENT
BEGIN:VEVENT
SUMMARY:Blocking period April/May 2023
UID:44669
DTSTART:20230404T220000Z
DTEND:20230404T220000Z
LAST-MODIFIED:20221219T000000Z
LOCATION:
END:VEVENT
BEGIN:VEVENT
SUMMARY:Blocking period April/May 2023
UID:44669
DTSTART:20230405T220000Z
DTEND:20230405T220000Z
LAST-MODIFIED:20221219T000000Z
LOCATION:
END:VEVENT
BEGIN:VEVENT
SUMMARY:Blocking period April/May 2023
UID:44669
DTSTART:20230406T220000Z
DTEND:20230406T220000Z
LAST-MODIFIED:20221219T000000Z
LOCATION:
END:VEVENT
BEGIN:VEVENT
SUMMARY:Blocking period April/May 2023
UID:44669
DTSTART:20230407T220000Z
DTEND:20230407T220000Z
LAST-MODIFIED:20221219T000000Z
LOCATION:
END:VEVENT
BEGIN:VEVENT
SUMMARY:Blocking period April/May 2023
UID:44669
DTSTART:20230408T220000Z
DTEND:20230408T220000Z
LAST-MODIFIED:20221219T000000Z
LOCATION:
END:VEVENT
BEGIN:VEVENT
SUMMARY:Blocking period April/May 2023
UID:44669
DTSTART:20230409T220000Z
DTEND:20230409T220000Z
LAST-MODIFIED:20221219T000000Z
LOCATION:
END:VEVENT
BEGIN:VEVENT
SUMMARY:Blocking period April/May 2023
UID:44669
DTSTART:20230410T220000Z
DTEND:20230410T220000Z
LAST-MODIFIED:20221219T000000Z
LOCATION:
END:VEVENT
BEGIN:VEVENT
SUMMARY:Blocking period April/May 2023
UID:44669
DTSTART:20230411T220000Z
DTEND:20230411T220000Z
LAST-MODIFIED:20221219T000000Z
LOCATION:
END:VEVENT
BEGIN:VEVENT
SUMMARY:Blocking period April/May 2023
UID:44669
DTSTART:20230412T220000Z
DTEND:20230412T220000Z
LAST-MODIFIED:20221219T000000Z
LOCATION:
END:VEVENT
BEGIN:VEVENT
SUMMARY:Blocking period April/May 2023
UID:44669
DTSTART:20230413T220000Z
DTEND:20230413T220000Z
LAST-MODIFIED:20221219T000000Z
LOCATION:
END:VEVENT
BEGIN:VEVENT
SUMMARY:Blocking period April/May 2023
UID:44669
DTSTART:20230414T220000Z
DTEND:20230414T220000Z
LAST-MODIFIED:20221219T000000Z
LOCATION:
END:VEVENT
BEGIN:VEVENT
SUMMARY:Blocking period April/May 2023
UID:44669
DTSTART:20230415T220000Z
DTEND:20230415T220000Z
LAST-MODIFIED:20221219T000000Z
LOCATION:
END:VEVENT
BEGIN:VEVENT
SUMMARY:Blocking period April/May 2023
UID:44669
DTSTART:20230416T220000Z
DTEND:20230416T220000Z
LAST-MODIFIED:20221219T000000Z
LOCATION:
END:VEVENT
BEGIN:VEVENT
SUMMARY:Blocking period April/May 2023
UID:44669
DTSTART:20230417T220000Z
DTEND:20230417T220000Z
LAST-MODIFIED:20221219T000000Z
LOCATION:
END:VEVENT
BEGIN:VEVENT
SUMMARY:Blocking period April/May 2023
UID:44669
DTSTART:20230418T220000Z
DTEND:20230418T220000Z
LAST-MODIFIED:20221219T000000Z
LOCATION:
END:VEVENT
BEGIN:VEVENT
SUMMARY:Blocking period April/May 2023
UID:44669
DTSTART:20230419T220000Z
DTEND:20230419T220000Z
LAST-MODIFIED:20221219T000000Z
LOCATION:
END:VEVENT
BEGIN:VEVENT
SUMMARY:Blocking period April/May 2023
UID:44669
DTSTART:20230420T220000Z
DTEND:20230420T220000Z
LAST-MODIFIED:20221219T000000Z
LOCATION:
END:VEVENT
BEGIN:VEVENT
SUMMARY:Blocking period April/May 2023
UID:44669
DTSTART:20230421T220000Z
DTEND:20230421T220000Z
LAST-MODIFIED:20221219T000000Z
LOCATION:
END:VEVENT
BEGIN:VEVENT
SUMMARY:Blocking period April/May 2023
UID:44669
DTSTART:20230422T220000Z
DTEND:20230422T220000Z
LAST-MODIFIED:20221219T000000Z
LOCATION:
END:VEVENT
BEGIN:VEVENT
SUMMARY:Blocking period April/May 2023
UID:44669
DTSTART:20230423T220000Z
DTEND:20230423T220000Z
LAST-MODIFIED:20221219T000000Z
LOCATION:
END:VEVENT
BEGIN:VEVENT
SUMMARY:Blocking period April/May 2023
UID:44669
DTSTART:20230424T220000Z
DTEND:20230424T220000Z
LAST-MODIFIED:20221219T000000Z
LOCATION:
END:VEVENT
BEGIN:VEVENT
SUMMARY:Blocking period April/May 2023
UID:44669
DTSTART:20230425T220000Z
DTEND:20230425T220000Z
LAST-MODIFIED:20221219T000000Z
LOCATION:
END:VEVENT
BEGIN:VEVENT
SUMMARY:Blocking period April/May 2023
UID:44669
DTSTART:20230426T220000Z
DTEND:20230426T220000Z
LAST-MODIFIED:20221219T000000Z
LOCATION:
END:VEVENT
BEGIN:VEVENT
SUMMARY:Blocking period April/May 2023
UID:44669
DTSTART:20230427T220000Z
DTEND:20230427T220000Z
LAST-MODIFIED:20221219T000000Z
LOCATION:
END:VEVENT
BEGIN:VEVENT
SUMMARY:Blocking period April/May 2023
UID:44669
DTSTART:20230428T220000Z
DTEND:20230428T220000Z
LAST-MODIFIED:20221219T000000Z
LOCATION:
END:VEVENT
BEGIN:VEVENT
SUMMARY:Blocking period April/May 2023
UID:44669
DTSTART:20230429T220000Z
DTEND:20230429T220000Z
LAST-MODIFIED:20221219T000000Z
LOCATION:
END:VEVENT
BEGIN:VEVENT
SUMMARY:Blocking period April/May 2023
UID:44669
DTSTART:20230430T220000Z
DTEND:20230430T220000Z
LAST-MODIFIED:20221219T000000Z
LOCATION:
END:VEVENT
BEGIN:VEVENT
SUMMARY:Blocking period April/May 2023
UID:44669
DTSTART:20230501T220000Z
DTEND:20230501T220000Z
LAST-MODIFIED:20221219T000000Z
LOCATION:
END:VEVENT
BEGIN:VEVENT
SUMMARY:Blocking period April/May 2023
UID:44669
DTSTART:20230502T220000Z
DTEND:20230502T220000Z
LAST-MODIFIED:20221219T000000Z
LOCATION:
END:VEVENT
END:VCALENDAR