BEGIN:VCALENDAR
METHOD:PUBLISH
VERSION:2.0
PRODID:-//IGD//IGD//IT
BEGIN:VEVENT
SUMMARY:Blocking period July/August 2023
UID:44665
DTSTART:20230702T220000Z
DTEND:20230702T220000Z
LAST-MODIFIED:20221219T000000Z
LOCATION:
END:VEVENT
BEGIN:VEVENT
SUMMARY:Blocking period July/August 2023
UID:44665
DTSTART:20230703T220000Z
DTEND:20230703T220000Z
LAST-MODIFIED:20221219T000000Z
LOCATION:
END:VEVENT
BEGIN:VEVENT
SUMMARY:Blocking period July/August 2023
UID:44665
DTSTART:20230704T220000Z
DTEND:20230704T220000Z
LAST-MODIFIED:20221219T000000Z
LOCATION:
END:VEVENT
BEGIN:VEVENT
SUMMARY:Blocking period July/August 2023
UID:44665
DTSTART:20230705T220000Z
DTEND:20230705T220000Z
LAST-MODIFIED:20221219T000000Z
LOCATION:
END:VEVENT
BEGIN:VEVENT
SUMMARY:Blocking period July/August 2023
UID:44665
DTSTART:20230706T220000Z
DTEND:20230706T220000Z
LAST-MODIFIED:20221219T000000Z
LOCATION:
END:VEVENT
BEGIN:VEVENT
SUMMARY:Blocking period July/August 2023
UID:44665
DTSTART:20230707T220000Z
DTEND:20230707T220000Z
LAST-MODIFIED:20221219T000000Z
LOCATION:
END:VEVENT
BEGIN:VEVENT
SUMMARY:Blocking period July/August 2023
UID:44665
DTSTART:20230708T220000Z
DTEND:20230708T220000Z
LAST-MODIFIED:20221219T000000Z
LOCATION:
END:VEVENT
BEGIN:VEVENT
SUMMARY:Blocking period July/August 2023
UID:44665
DTSTART:20230709T220000Z
DTEND:20230709T220000Z
LAST-MODIFIED:20221219T000000Z
LOCATION:
END:VEVENT
BEGIN:VEVENT
SUMMARY:Blocking period July/August 2023
UID:44665
DTSTART:20230710T220000Z
DTEND:20230710T220000Z
LAST-MODIFIED:20221219T000000Z
LOCATION:
END:VEVENT
BEGIN:VEVENT
SUMMARY:Blocking period July/August 2023
UID:44665
DTSTART:20230711T220000Z
DTEND:20230711T220000Z
LAST-MODIFIED:20221219T000000Z
LOCATION:
END:VEVENT
BEGIN:VEVENT
SUMMARY:Blocking period July/August 2023
UID:44665
DTSTART:20230712T220000Z
DTEND:20230712T220000Z
LAST-MODIFIED:20221219T000000Z
LOCATION:
END:VEVENT
BEGIN:VEVENT
SUMMARY:Blocking period July/August 2023
UID:44665
DTSTART:20230713T220000Z
DTEND:20230713T220000Z
LAST-MODIFIED:20221219T000000Z
LOCATION:
END:VEVENT
BEGIN:VEVENT
SUMMARY:Blocking period July/August 2023
UID:44665
DTSTART:20230714T220000Z
DTEND:20230714T220000Z
LAST-MODIFIED:20221219T000000Z
LOCATION:
END:VEVENT
BEGIN:VEVENT
SUMMARY:Blocking period July/August 2023
UID:44665
DTSTART:20230715T220000Z
DTEND:20230715T220000Z
LAST-MODIFIED:20221219T000000Z
LOCATION:
END:VEVENT
BEGIN:VEVENT
SUMMARY:Blocking period July/August 2023
UID:44665
DTSTART:20230716T220000Z
DTEND:20230716T220000Z
LAST-MODIFIED:20221219T000000Z
LOCATION:
END:VEVENT
BEGIN:VEVENT
SUMMARY:Blocking period July/August 2023
UID:44665
DTSTART:20230717T220000Z
DTEND:20230717T220000Z
LAST-MODIFIED:20221219T000000Z
LOCATION:
END:VEVENT
BEGIN:VEVENT
SUMMARY:Blocking period July/August 2023
UID:44665
DTSTART:20230718T220000Z
DTEND:20230718T220000Z
LAST-MODIFIED:20221219T000000Z
LOCATION:
END:VEVENT
BEGIN:VEVENT
SUMMARY:Blocking period July/August 2023
UID:44665
DTSTART:20230719T220000Z
DTEND:20230719T220000Z
LAST-MODIFIED:20221219T000000Z
LOCATION:
END:VEVENT
BEGIN:VEVENT
SUMMARY:Blocking period July/August 2023
UID:44665
DTSTART:20230720T220000Z
DTEND:20230720T220000Z
LAST-MODIFIED:20221219T000000Z
LOCATION:
END:VEVENT
BEGIN:VEVENT
SUMMARY:Blocking period July/August 2023
UID:44665
DTSTART:20230721T220000Z
DTEND:20230721T220000Z
LAST-MODIFIED:20221219T000000Z
LOCATION:
END:VEVENT
BEGIN:VEVENT
SUMMARY:Blocking period July/August 2023
UID:44665
DTSTART:20230722T220000Z
DTEND:20230722T220000Z
LAST-MODIFIED:20221219T000000Z
LOCATION:
END:VEVENT
BEGIN:VEVENT
SUMMARY:Blocking period July/August 2023
UID:44665
DTSTART:20230723T220000Z
DTEND:20230723T220000Z
LAST-MODIFIED:20221219T000000Z
LOCATION:
END:VEVENT
BEGIN:VEVENT
SUMMARY:Blocking period July/August 2023
UID:44665
DTSTART:20230724T220000Z
DTEND:20230724T220000Z
LAST-MODIFIED:20221219T000000Z
LOCATION:
END:VEVENT
BEGIN:VEVENT
SUMMARY:Blocking period July/August 2023
UID:44665
DTSTART:20230725T220000Z
DTEND:20230725T220000Z
LAST-MODIFIED:20221219T000000Z
LOCATION:
END:VEVENT
BEGIN:VEVENT
SUMMARY:Blocking period July/August 2023
UID:44665
DTSTART:20230726T220000Z
DTEND:20230726T220000Z
LAST-MODIFIED:20221219T000000Z
LOCATION:
END:VEVENT
BEGIN:VEVENT
SUMMARY:Blocking period July/August 2023
UID:44665
DTSTART:20230727T220000Z
DTEND:20230727T220000Z
LAST-MODIFIED:20221219T000000Z
LOCATION:
END:VEVENT
BEGIN:VEVENT
SUMMARY:Blocking period July/August 2023
UID:44665
DTSTART:20230728T220000Z
DTEND:20230728T220000Z
LAST-MODIFIED:20221219T000000Z
LOCATION:
END:VEVENT
BEGIN:VEVENT
SUMMARY:Blocking period July/August 2023
UID:44665
DTSTART:20230729T220000Z
DTEND:20230729T220000Z
LAST-MODIFIED:20221219T000000Z
LOCATION:
END:VEVENT
BEGIN:VEVENT
SUMMARY:Blocking period July/August 2023
UID:44665
DTSTART:20230730T220000Z
DTEND:20230730T220000Z
LAST-MODIFIED:20221219T000000Z
LOCATION:
END:VEVENT
BEGIN:VEVENT
SUMMARY:Blocking period July/August 2023
UID:44665
DTSTART:20230731T220000Z
DTEND:20230731T220000Z
LAST-MODIFIED:20221219T000000Z
LOCATION:
END:VEVENT
END:VCALENDAR