BEGIN:VCALENDAR
METHOD:PUBLISH
VERSION:2.0
PRODID:-//IGD//IGD//IT
BEGIN:VEVENT
SUMMARY:Blocking period October/November 2023
UID:44661
DTSTART:20231008T220000Z
DTEND:20231008T220000Z
LAST-MODIFIED:20221219T000000Z
LOCATION:
END:VEVENT
BEGIN:VEVENT
SUMMARY:Blocking period October/November 2023
UID:44661
DTSTART:20231009T220000Z
DTEND:20231009T220000Z
LAST-MODIFIED:20221219T000000Z
LOCATION:
END:VEVENT
BEGIN:VEVENT
SUMMARY:Blocking period October/November 2023
UID:44661
DTSTART:20231010T220000Z
DTEND:20231010T220000Z
LAST-MODIFIED:20221219T000000Z
LOCATION:
END:VEVENT
BEGIN:VEVENT
SUMMARY:Blocking period October/November 2023
UID:44661
DTSTART:20231011T220000Z
DTEND:20231011T220000Z
LAST-MODIFIED:20221219T000000Z
LOCATION:
END:VEVENT
BEGIN:VEVENT
SUMMARY:Blocking period October/November 2023
UID:44661
DTSTART:20231012T220000Z
DTEND:20231012T220000Z
LAST-MODIFIED:20221219T000000Z
LOCATION:
END:VEVENT
BEGIN:VEVENT
SUMMARY:Blocking period October/November 2023
UID:44661
DTSTART:20231013T220000Z
DTEND:20231013T220000Z
LAST-MODIFIED:20221219T000000Z
LOCATION:
END:VEVENT
BEGIN:VEVENT
SUMMARY:Blocking period October/November 2023
UID:44661
DTSTART:20231014T220000Z
DTEND:20231014T220000Z
LAST-MODIFIED:20221219T000000Z
LOCATION:
END:VEVENT
BEGIN:VEVENT
SUMMARY:Blocking period October/November 2023
UID:44661
DTSTART:20231015T220000Z
DTEND:20231015T220000Z
LAST-MODIFIED:20221219T000000Z
LOCATION:
END:VEVENT
BEGIN:VEVENT
SUMMARY:Blocking period October/November 2023
UID:44661
DTSTART:20231016T220000Z
DTEND:20231016T220000Z
LAST-MODIFIED:20221219T000000Z
LOCATION:
END:VEVENT
BEGIN:VEVENT
SUMMARY:Blocking period October/November 2023
UID:44661
DTSTART:20231017T220000Z
DTEND:20231017T220000Z
LAST-MODIFIED:20221219T000000Z
LOCATION:
END:VEVENT
BEGIN:VEVENT
SUMMARY:Blocking period October/November 2023
UID:44661
DTSTART:20231018T220000Z
DTEND:20231018T220000Z
LAST-MODIFIED:20221219T000000Z
LOCATION:
END:VEVENT
BEGIN:VEVENT
SUMMARY:Blocking period October/November 2023
UID:44661
DTSTART:20231019T220000Z
DTEND:20231019T220000Z
LAST-MODIFIED:20221219T000000Z
LOCATION:
END:VEVENT
BEGIN:VEVENT
SUMMARY:Blocking period October/November 2023
UID:44661
DTSTART:20231020T220000Z
DTEND:20231020T220000Z
LAST-MODIFIED:20221219T000000Z
LOCATION:
END:VEVENT
BEGIN:VEVENT
SUMMARY:Blocking period October/November 2023
UID:44661
DTSTART:20231021T220000Z
DTEND:20231021T220000Z
LAST-MODIFIED:20221219T000000Z
LOCATION:
END:VEVENT
BEGIN:VEVENT
SUMMARY:Blocking period October/November 2023
UID:44661
DTSTART:20231022T220000Z
DTEND:20231022T220000Z
LAST-MODIFIED:20221219T000000Z
LOCATION:
END:VEVENT
BEGIN:VEVENT
SUMMARY:Blocking period October/November 2023
UID:44661
DTSTART:20231023T220000Z
DTEND:20231023T220000Z
LAST-MODIFIED:20221219T000000Z
LOCATION:
END:VEVENT
BEGIN:VEVENT
SUMMARY:Blocking period October/November 2023
UID:44661
DTSTART:20231024T220000Z
DTEND:20231024T220000Z
LAST-MODIFIED:20221219T000000Z
LOCATION:
END:VEVENT
BEGIN:VEVENT
SUMMARY:Blocking period October/November 2023
UID:44661
DTSTART:20231025T220000Z
DTEND:20231025T220000Z
LAST-MODIFIED:20221219T000000Z
LOCATION:
END:VEVENT
BEGIN:VEVENT
SUMMARY:Blocking period October/November 2023
UID:44661
DTSTART:20231026T220000Z
DTEND:20231026T220000Z
LAST-MODIFIED:20221219T000000Z
LOCATION:
END:VEVENT
BEGIN:VEVENT
SUMMARY:Blocking period October/November 2023
UID:44661
DTSTART:20231027T220000Z
DTEND:20231027T220000Z
LAST-MODIFIED:20221219T000000Z
LOCATION:
END:VEVENT
BEGIN:VEVENT
SUMMARY:Blocking period October/November 2023
UID:44661
DTSTART:20231028T220000Z
DTEND:20231028T220000Z
LAST-MODIFIED:20221219T000000Z
LOCATION:
END:VEVENT
BEGIN:VEVENT
SUMMARY:Blocking period October/November 2023
UID:44661
DTSTART:20231029T230000Z
DTEND:20231029T230000Z
LAST-MODIFIED:20221219T000000Z
LOCATION:
END:VEVENT
BEGIN:VEVENT
SUMMARY:Blocking period October/November 2023
UID:44661
DTSTART:20231030T230000Z
DTEND:20231030T230000Z
LAST-MODIFIED:20221219T000000Z
LOCATION:
END:VEVENT
BEGIN:VEVENT
SUMMARY:Blocking period October/November 2023
UID:44661
DTSTART:20231031T230000Z
DTEND:20231031T230000Z
LAST-MODIFIED:20221219T000000Z
LOCATION:
END:VEVENT
BEGIN:VEVENT
SUMMARY:Blocking period October/November 2023
UID:44661
DTSTART:20231101T230000Z
DTEND:20231101T230000Z
LAST-MODIFIED:20221219T000000Z
LOCATION:
END:VEVENT
BEGIN:VEVENT
SUMMARY:Blocking period October/November 2023
UID:44661
DTSTART:20231102T230000Z
DTEND:20231102T230000Z
LAST-MODIFIED:20221219T000000Z
LOCATION:
END:VEVENT
BEGIN:VEVENT
SUMMARY:Blocking period October/November 2023
UID:44661
DTSTART:20231103T230000Z
DTEND:20231103T230000Z
LAST-MODIFIED:20221219T000000Z
LOCATION:
END:VEVENT
BEGIN:VEVENT
SUMMARY:Blocking period October/November 2023
UID:44661
DTSTART:20231104T230000Z
DTEND:20231104T230000Z
LAST-MODIFIED:20221219T000000Z
LOCATION:
END:VEVENT
BEGIN:VEVENT
SUMMARY:Blocking period October/November 2023
UID:44661
DTSTART:20231105T230000Z
DTEND:20231105T230000Z
LAST-MODIFIED:20221219T000000Z
LOCATION:
END:VEVENT
BEGIN:VEVENT
SUMMARY:Blocking period October/November 2023
UID:44661
DTSTART:20231106T230000Z
DTEND:20231106T230000Z
LAST-MODIFIED:20221219T000000Z
LOCATION:
END:VEVENT
END:VCALENDAR