BEGIN:VCALENDAR
METHOD:PUBLISH
VERSION:2.0
PRODID:-//IGD//IGD//IT
BEGIN:VEVENT
SUMMARY:Italian Stock Exchange: closing days 25 and 26 December 2023
UID:44657
DTSTART:20231224T230000Z
DTEND:20231224T230000Z
LAST-MODIFIED:20221219T000000Z
LOCATION:Milan
END:VEVENT
BEGIN:VEVENT
SUMMARY:Italian Stock Exchange: closing days 25 and 26 December 2023
UID:44657
DTSTART:20231225T230000Z
DTEND:20231225T230000Z
LAST-MODIFIED:20221219T000000Z
LOCATION:Milan
END:VEVENT
END:VCALENDAR