BEGIN:VCALENDAR
METHOD:PUBLISH
VERSION:2.0
PRODID:-//IGD//IGD//IT
BEGIN:VEVENT
SUMMARY:Italian Stock Exchange: closing day 1 May 2023
UID:44647
DTSTART:20230430T220000Z
DTEND:20230430T220000Z
LAST-MODIFIED:20221219T000000Z
LOCATION:Milan
END:VEVENT
END:VCALENDAR