BEGIN:VCALENDAR
METHOD:PUBLISH
VERSION:2.0
PRODID:-//IGD//IGD//IT
BEGIN:VEVENT
SUMMARY:Italian Stock Exchange: closing days from 7 to 10 April 2023
UID:44643
DTSTART:20230406T220000Z
DTEND:20230406T220000Z
LAST-MODIFIED:20221219T000000Z
LOCATION:Milan
END:VEVENT
BEGIN:VEVENT
SUMMARY:Italian Stock Exchange: closing days from 7 to 10 April 2023
UID:44643
DTSTART:20230407T220000Z
DTEND:20230407T220000Z
LAST-MODIFIED:20221219T000000Z
LOCATION:Milan
END:VEVENT
BEGIN:VEVENT
SUMMARY:Italian Stock Exchange: closing days from 7 to 10 April 2023
UID:44643
DTSTART:20230408T220000Z
DTEND:20230408T220000Z
LAST-MODIFIED:20221219T000000Z
LOCATION:Milan
END:VEVENT
BEGIN:VEVENT
SUMMARY:Italian Stock Exchange: closing days from 7 to 10 April 2023
UID:44643
DTSTART:20230409T220000Z
DTEND:20230409T220000Z
LAST-MODIFIED:20221219T000000Z
LOCATION:Milan
END:VEVENT
END:VCALENDAR