BEGIN:VCALENDAR
METHOD:PUBLISH
VERSION:2.0
PRODID:-//IGD//IGD//IT
BEGIN:VEVENT
SUMMARY:MAPIC Cannes 2023
UID:44638
DTSTART:20231127T230000Z
DTEND:20231127T230000Z
LAST-MODIFIED:20221219T000000Z
LOCATION:Cannes, France
END:VEVENT
BEGIN:VEVENT
SUMMARY:MAPIC Cannes 2023
UID:44638
DTSTART:20231128T230000Z
DTEND:20231128T230000Z
LAST-MODIFIED:20221219T000000Z
LOCATION:Cannes, France
END:VEVENT
BEGIN:VEVENT
SUMMARY:MAPIC Cannes 2023
UID:44638
DTSTART:20231129T230000Z
DTEND:20231129T230000Z
LAST-MODIFIED:20221219T000000Z
LOCATION:Cannes, France
END:VEVENT
END:VCALENDAR