BEGIN:VCALENDAR
METHOD:PUBLISH
VERSION:2.0
PRODID:-//IGD//IGD//IT
BEGIN:VEVENT
SUMMARY:MAPIC Italy 2023
UID:44633
DTSTART:20230515T220000Z
DTEND:20230515T220000Z
LAST-MODIFIED:20221219T000000Z
LOCATION:Milan
END:VEVENT
BEGIN:VEVENT
SUMMARY:MAPIC Italy 2023
UID:44633
DTSTART:20230516T220000Z
DTEND:20230516T220000Z
LAST-MODIFIED:20221219T000000Z
LOCATION:Milan
END:VEVENT
END:VCALENDAR