BEGIN:VCALENDAR
METHOD:PUBLISH
VERSION:2.0
PRODID:-//IGD//IGD//IT
BEGIN:VEVENT
SUMMARY:Board of Directors of 8 November 2023
UID:44627
DTSTART:20231107T230000Z
DTEND:20231107T230000Z
LAST-MODIFIED:20221219T000000Z
LOCATION:Bologna
END:VEVENT
END:VCALENDAR