BEGIN:VCALENDAR
METHOD:PUBLISH
VERSION:2.0
PRODID:-//IGD//IGD//IT
BEGIN:VEVENT
SUMMARY:Board of Directors of 2 August 2023
UID:44623
DTSTART:20230801T220000Z
DTEND:20230801T220000Z
LAST-MODIFIED:20221219T000000Z
LOCATION:Bologna
END:VEVENT
END:VCALENDAR