BEGIN:VCALENDAR
METHOD:PUBLISH
VERSION:2.0
PRODID:-//IGD//IGD//IT
BEGIN:VEVENT
SUMMARY:Board of Directors of 23 February 2023
UID:44607
DTSTART:20230222T230000Z
DTEND:20230222T230000Z
LAST-MODIFIED:20230214T000000Z
LOCATION:Bologna
END:VEVENT
END:VCALENDAR