BEGIN:VCALENDAR
METHOD:PUBLISH
VERSION:2.0
PRODID:-//IGD//IGD//IT
BEGIN:VEVENT
SUMMARY:Goldman Sachs Real Estate Debt Conference
UID:44075
DTSTART:20221129T230000Z
DTEND:20221129T230000Z
LAST-MODIFIED:20221125T000000Z
LOCATION:London
END:VEVENT
END:VCALENDAR