BEGIN:VCALENDAR
METHOD:PUBLISH
VERSION:2.0
PRODID:-//IGD//IGD//IT
BEGIN:VEVENT
SUMMARY:Conference call to present the results as at 30 September 2022 – dial-in details
UID:43718
DTSTART:20221102T230000Z
DTEND:20221102T230000Z
LAST-MODIFIED:20221103T000000Z
LOCATION:
END:VEVENT
END:VCALENDAR