BEGIN:VCALENDAR
METHOD:PUBLISH
VERSION:2.0
PRODID:-//IGD//IGD//IT
BEGIN:VEVENT
SUMMARY:Conference call to present the results as at 30 June 2022 &#8211; dial-in details
UID:42780
DTSTART:20220803T220000Z
DTEND:20220803T220000Z
LAST-MODIFIED:20220804T000000Z
LOCATION:
END:VEVENT
END:VCALENDAR