BEGIN:VCALENDAR
METHOD:PUBLISH
VERSION:2.0
PRODID:-//IGD//IGD//IT
BEGIN:VEVENT
SUMMARY:Morgan Stanley Fixed Income Real Estate Conference 2022
UID:42771
DTSTART:20220928T220000Z
DTEND:20220928T220000Z
LAST-MODIFIED:20220926T000000Z
LOCATION:London
END:VEVENT
END:VCALENDAR