BEGIN:VCALENDAR
METHOD:PUBLISH
VERSION:2.0
PRODID:-//IGD//IGD//IT
BEGIN:VEVENT
SUMMARY:2022 Italian Excellences Mid Corporate Conference
UID:42767
DTSTART:20221010T220000Z
DTEND:20221010T220000Z
LAST-MODIFIED:20221006T000000Z
LOCATION:Paris
END:VEVENT
END:VCALENDAR