BEGIN:VCALENDAR
METHOD:PUBLISH
VERSION:2.0
PRODID:-//IGD//IGD//IT
BEGIN:VEVENT
SUMMARY:BNP Paribas Exane MidCap CEO Conference 2022
UID:42763
DTSTART:20221115T230000Z
DTEND:20221115T230000Z
LAST-MODIFIED:20220713T000000Z
LOCATION:Paris
END:VEVENT
END:VCALENDAR