BEGIN:VCALENDAR
METHOD:PUBLISH
VERSION:2.0
PRODID:-//IGD//IGD//IT
BEGIN:VEVENT
SUMMARY:Italian Sustainability Week Investor Conference 2022
UID:42759
DTSTART:20220905T220000Z
DTEND:20220905T220000Z
LAST-MODIFIED:20220907T000000Z
LOCATION:
END:VEVENT
END:VCALENDAR