BEGIN:VCALENDAR
METHOD:PUBLISH
VERSION:2.0
PRODID:-//IGD//IGD//IT
BEGIN:VEVENT
SUMMARY:2022 EPRA Conference
UID:42591
DTSTART:20220905T220000Z
DTEND:20220905T220000Z
LAST-MODIFIED:20220617T000000Z
LOCATION:Paris
END:VEVENT
BEGIN:VEVENT
SUMMARY:2022 EPRA Conference
UID:42591
DTSTART:20220906T220000Z
DTEND:20220906T220000Z
LAST-MODIFIED:20220617T000000Z
LOCATION:Paris
END:VEVENT
BEGIN:VEVENT
SUMMARY:2022 EPRA Conference
UID:42591
DTSTART:20220907T220000Z
DTEND:20220907T220000Z
LAST-MODIFIED:20220617T000000Z
LOCATION:Paris
END:VEVENT
END:VCALENDAR