BEGIN:VCALENDAR
METHOD:PUBLISH
VERSION:2.0
PRODID:-//IGD//IGD//IT
BEGIN:VEVENT
SUMMARY:Conference call to present the results as at 31 March 2022 – dial-in details
UID:41810
DTSTART:20220504T220000Z
DTEND:20220504T220000Z
LAST-MODIFIED:20220505T000000Z
LOCATION:
END:VEVENT
END:VCALENDAR