BEGIN:VCALENDAR
METHOD:PUBLISH
VERSION:2.0
PRODID:-//IGD//IGD//IT
BEGIN:VEVENT
SUMMARY:2022 dividend payment
UID:41020
DTSTART:20220510T220000Z
DTEND:20220510T220000Z
LAST-MODIFIED:20220322T000000Z
LOCATION:
END:VEVENT
END:VCALENDAR