BEGIN:VCALENDAR
METHOD:PUBLISH
VERSION:2.0
PRODID:-//IGD//IGD//IT
BEGIN:VEVENT
SUMMARY:Going ex-dividend 2022
UID:41016
DTSTART:20220508T220000Z
DTEND:20220508T220000Z
LAST-MODIFIED:20220322T000000Z
LOCATION:
END:VEVENT
END:VCALENDAR