BEGIN:VCALENDAR
METHOD:PUBLISH
VERSION:2.0
PRODID:-//IGD//IGD//IT
BEGIN:VEVENT
SUMMARY:Virtual roadshow with Intesa Sanpaolo-IMI
UID:39195
DTSTART:20220116T230000Z
DTEND:20220116T230000Z
LAST-MODIFIED:20220124T000000Z
LOCATION:
END:VEVENT
END:VCALENDAR