BEGIN:VCALENDAR
METHOD:PUBLISH
VERSION:2.0
PRODID:-//IGD//IGD//IT
BEGIN:VEVENT
SUMMARY:MAPIC Cannes 2022
UID:39178
DTSTART:20221128T230000Z
DTEND:20221128T230000Z
LAST-MODIFIED:20220112T000000Z
LOCATION:Cannes
END:VEVENT
BEGIN:VEVENT
SUMMARY:MAPIC Cannes 2022
UID:39178
DTSTART:20221129T230000Z
DTEND:20221129T230000Z
LAST-MODIFIED:20220112T000000Z
LOCATION:Cannes
END:VEVENT
BEGIN:VEVENT
SUMMARY:MAPIC Cannes 2022
UID:39178
DTSTART:20221130T230000Z
DTEND:20221130T230000Z
LAST-MODIFIED:20220112T000000Z
LOCATION:Cannes
END:VEVENT
END:VCALENDAR