BEGIN:VCALENDAR
METHOD:PUBLISH
VERSION:2.0
PRODID:-//IGD//IGD//IT
BEGIN:VEVENT
SUMMARY:MAPIC Italy 2022
UID:39165
DTSTART:20220517T220000Z
DTEND:20220517T220000Z
LAST-MODIFIED:20220112T000000Z
LOCATION:Milan
END:VEVENT
BEGIN:VEVENT
SUMMARY:MAPIC Italy 2022
UID:39165
DTSTART:20220518T220000Z
DTEND:20220518T220000Z
LAST-MODIFIED:20220112T000000Z
LOCATION:Milan
END:VEVENT
END:VCALENDAR