BEGIN:VCALENDAR
METHOD:PUBLISH
VERSION:2.0
PRODID:-//IGD//IGD//IT
BEGIN:VEVENT
SUMMARY:Euronext STAR Conference 2022 &#8211; Italian Stock Exchange
UID:39160
DTSTART:20220322T230000Z
DTEND:20220322T230000Z
LAST-MODIFIED:20220321T000000Z
LOCATION:
END:VEVENT
END:VCALENDAR