BEGIN:VCALENDAR
METHOD:PUBLISH
VERSION:2.0
PRODID:-//IGD//IGD//IT
BEGIN:VEVENT
SUMMARY:Italian Stock Exchange: closing days from 15 to 18 April 2022
UID:39156
DTSTART:20220414T220000Z
DTEND:20220414T220000Z
LAST-MODIFIED:20220112T000000Z
LOCATION:
END:VEVENT
BEGIN:VEVENT
SUMMARY:Italian Stock Exchange: closing days from 15 to 18 April 2022
UID:39156
DTSTART:20220415T220000Z
DTEND:20220415T220000Z
LAST-MODIFIED:20220112T000000Z
LOCATION:
END:VEVENT
BEGIN:VEVENT
SUMMARY:Italian Stock Exchange: closing days from 15 to 18 April 2022
UID:39156
DTSTART:20220416T220000Z
DTEND:20220416T220000Z
LAST-MODIFIED:20220112T000000Z
LOCATION:
END:VEVENT
BEGIN:VEVENT
SUMMARY:Italian Stock Exchange: closing days from 15 to 18 April 2022
UID:39156
DTSTART:20220417T220000Z
DTEND:20220417T220000Z
LAST-MODIFIED:20220112T000000Z
LOCATION:
END:VEVENT
END:VCALENDAR