BEGIN:VCALENDAR
METHOD:PUBLISH
VERSION:2.0
PRODID:-//IGD//IGD//IT
BEGIN:VEVENT
SUMMARY:Italian Stock Exchange: closing day 26 December 2022
UID:39148
DTSTART:20221225T230000Z
DTEND:20221225T230000Z
LAST-MODIFIED:20220112T000000Z
LOCATION:
END:VEVENT
END:VCALENDAR