BEGIN:VCALENDAR
METHOD:PUBLISH
VERSION:2.0
PRODID:-//IGD//IGD//IT
BEGIN:VEVENT
SUMMARY:Blocking period October/November 2022
UID:39141
DTSTART:20221003T220000Z
DTEND:20221003T220000Z
LAST-MODIFIED:20220112T000000Z
LOCATION:
END:VEVENT
BEGIN:VEVENT
SUMMARY:Blocking period October/November 2022
UID:39141
DTSTART:20221004T220000Z
DTEND:20221004T220000Z
LAST-MODIFIED:20220112T000000Z
LOCATION:
END:VEVENT
BEGIN:VEVENT
SUMMARY:Blocking period October/November 2022
UID:39141
DTSTART:20221005T220000Z
DTEND:20221005T220000Z
LAST-MODIFIED:20220112T000000Z
LOCATION:
END:VEVENT
BEGIN:VEVENT
SUMMARY:Blocking period October/November 2022
UID:39141
DTSTART:20221006T220000Z
DTEND:20221006T220000Z
LAST-MODIFIED:20220112T000000Z
LOCATION:
END:VEVENT
BEGIN:VEVENT
SUMMARY:Blocking period October/November 2022
UID:39141
DTSTART:20221007T220000Z
DTEND:20221007T220000Z
LAST-MODIFIED:20220112T000000Z
LOCATION:
END:VEVENT
BEGIN:VEVENT
SUMMARY:Blocking period October/November 2022
UID:39141
DTSTART:20221008T220000Z
DTEND:20221008T220000Z
LAST-MODIFIED:20220112T000000Z
LOCATION:
END:VEVENT
BEGIN:VEVENT
SUMMARY:Blocking period October/November 2022
UID:39141
DTSTART:20221009T220000Z
DTEND:20221009T220000Z
LAST-MODIFIED:20220112T000000Z
LOCATION:
END:VEVENT
BEGIN:VEVENT
SUMMARY:Blocking period October/November 2022
UID:39141
DTSTART:20221010T220000Z
DTEND:20221010T220000Z
LAST-MODIFIED:20220112T000000Z
LOCATION:
END:VEVENT
BEGIN:VEVENT
SUMMARY:Blocking period October/November 2022
UID:39141
DTSTART:20221011T220000Z
DTEND:20221011T220000Z
LAST-MODIFIED:20220112T000000Z
LOCATION:
END:VEVENT
BEGIN:VEVENT
SUMMARY:Blocking period October/November 2022
UID:39141
DTSTART:20221012T220000Z
DTEND:20221012T220000Z
LAST-MODIFIED:20220112T000000Z
LOCATION:
END:VEVENT
BEGIN:VEVENT
SUMMARY:Blocking period October/November 2022
UID:39141
DTSTART:20221013T220000Z
DTEND:20221013T220000Z
LAST-MODIFIED:20220112T000000Z
LOCATION:
END:VEVENT
BEGIN:VEVENT
SUMMARY:Blocking period October/November 2022
UID:39141
DTSTART:20221014T220000Z
DTEND:20221014T220000Z
LAST-MODIFIED:20220112T000000Z
LOCATION:
END:VEVENT
BEGIN:VEVENT
SUMMARY:Blocking period October/November 2022
UID:39141
DTSTART:20221015T220000Z
DTEND:20221015T220000Z
LAST-MODIFIED:20220112T000000Z
LOCATION:
END:VEVENT
BEGIN:VEVENT
SUMMARY:Blocking period October/November 2022
UID:39141
DTSTART:20221016T220000Z
DTEND:20221016T220000Z
LAST-MODIFIED:20220112T000000Z
LOCATION:
END:VEVENT
BEGIN:VEVENT
SUMMARY:Blocking period October/November 2022
UID:39141
DTSTART:20221017T220000Z
DTEND:20221017T220000Z
LAST-MODIFIED:20220112T000000Z
LOCATION:
END:VEVENT
BEGIN:VEVENT
SUMMARY:Blocking period October/November 2022
UID:39141
DTSTART:20221018T220000Z
DTEND:20221018T220000Z
LAST-MODIFIED:20220112T000000Z
LOCATION:
END:VEVENT
BEGIN:VEVENT
SUMMARY:Blocking period October/November 2022
UID:39141
DTSTART:20221019T220000Z
DTEND:20221019T220000Z
LAST-MODIFIED:20220112T000000Z
LOCATION:
END:VEVENT
BEGIN:VEVENT
SUMMARY:Blocking period October/November 2022
UID:39141
DTSTART:20221020T220000Z
DTEND:20221020T220000Z
LAST-MODIFIED:20220112T000000Z
LOCATION:
END:VEVENT
BEGIN:VEVENT
SUMMARY:Blocking period October/November 2022
UID:39141
DTSTART:20221021T220000Z
DTEND:20221021T220000Z
LAST-MODIFIED:20220112T000000Z
LOCATION:
END:VEVENT
BEGIN:VEVENT
SUMMARY:Blocking period October/November 2022
UID:39141
DTSTART:20221022T220000Z
DTEND:20221022T220000Z
LAST-MODIFIED:20220112T000000Z
LOCATION:
END:VEVENT
BEGIN:VEVENT
SUMMARY:Blocking period October/November 2022
UID:39141
DTSTART:20221023T220000Z
DTEND:20221023T220000Z
LAST-MODIFIED:20220112T000000Z
LOCATION:
END:VEVENT
BEGIN:VEVENT
SUMMARY:Blocking period October/November 2022
UID:39141
DTSTART:20221024T220000Z
DTEND:20221024T220000Z
LAST-MODIFIED:20220112T000000Z
LOCATION:
END:VEVENT
BEGIN:VEVENT
SUMMARY:Blocking period October/November 2022
UID:39141
DTSTART:20221025T220000Z
DTEND:20221025T220000Z
LAST-MODIFIED:20220112T000000Z
LOCATION:
END:VEVENT
BEGIN:VEVENT
SUMMARY:Blocking period October/November 2022
UID:39141
DTSTART:20221026T220000Z
DTEND:20221026T220000Z
LAST-MODIFIED:20220112T000000Z
LOCATION:
END:VEVENT
BEGIN:VEVENT
SUMMARY:Blocking period October/November 2022
UID:39141
DTSTART:20221027T220000Z
DTEND:20221027T220000Z
LAST-MODIFIED:20220112T000000Z
LOCATION:
END:VEVENT
BEGIN:VEVENT
SUMMARY:Blocking period October/November 2022
UID:39141
DTSTART:20221028T220000Z
DTEND:20221028T220000Z
LAST-MODIFIED:20220112T000000Z
LOCATION:
END:VEVENT
BEGIN:VEVENT
SUMMARY:Blocking period October/November 2022
UID:39141
DTSTART:20221029T220000Z
DTEND:20221029T220000Z
LAST-MODIFIED:20220112T000000Z
LOCATION:
END:VEVENT
BEGIN:VEVENT
SUMMARY:Blocking period October/November 2022
UID:39141
DTSTART:20221030T230000Z
DTEND:20221030T230000Z
LAST-MODIFIED:20220112T000000Z
LOCATION:
END:VEVENT
BEGIN:VEVENT
SUMMARY:Blocking period October/November 2022
UID:39141
DTSTART:20221031T230000Z
DTEND:20221031T230000Z
LAST-MODIFIED:20220112T000000Z
LOCATION:
END:VEVENT
BEGIN:VEVENT
SUMMARY:Blocking period October/November 2022
UID:39141
DTSTART:20221101T230000Z
DTEND:20221101T230000Z
LAST-MODIFIED:20220112T000000Z
LOCATION:
END:VEVENT
END:VCALENDAR