BEGIN:VCALENDAR
METHOD:PUBLISH
VERSION:2.0
PRODID:-//IGD//IGD//IT
BEGIN:VEVENT
SUMMARY:Blocking period July/August 2022
UID:39139
DTSTART:20220704T220000Z
DTEND:20220704T220000Z
LAST-MODIFIED:20220112T000000Z
LOCATION:
END:VEVENT
BEGIN:VEVENT
SUMMARY:Blocking period July/August 2022
UID:39139
DTSTART:20220705T220000Z
DTEND:20220705T220000Z
LAST-MODIFIED:20220112T000000Z
LOCATION:
END:VEVENT
BEGIN:VEVENT
SUMMARY:Blocking period July/August 2022
UID:39139
DTSTART:20220706T220000Z
DTEND:20220706T220000Z
LAST-MODIFIED:20220112T000000Z
LOCATION:
END:VEVENT
BEGIN:VEVENT
SUMMARY:Blocking period July/August 2022
UID:39139
DTSTART:20220707T220000Z
DTEND:20220707T220000Z
LAST-MODIFIED:20220112T000000Z
LOCATION:
END:VEVENT
BEGIN:VEVENT
SUMMARY:Blocking period July/August 2022
UID:39139
DTSTART:20220708T220000Z
DTEND:20220708T220000Z
LAST-MODIFIED:20220112T000000Z
LOCATION:
END:VEVENT
BEGIN:VEVENT
SUMMARY:Blocking period July/August 2022
UID:39139
DTSTART:20220709T220000Z
DTEND:20220709T220000Z
LAST-MODIFIED:20220112T000000Z
LOCATION:
END:VEVENT
BEGIN:VEVENT
SUMMARY:Blocking period July/August 2022
UID:39139
DTSTART:20220710T220000Z
DTEND:20220710T220000Z
LAST-MODIFIED:20220112T000000Z
LOCATION:
END:VEVENT
BEGIN:VEVENT
SUMMARY:Blocking period July/August 2022
UID:39139
DTSTART:20220711T220000Z
DTEND:20220711T220000Z
LAST-MODIFIED:20220112T000000Z
LOCATION:
END:VEVENT
BEGIN:VEVENT
SUMMARY:Blocking period July/August 2022
UID:39139
DTSTART:20220712T220000Z
DTEND:20220712T220000Z
LAST-MODIFIED:20220112T000000Z
LOCATION:
END:VEVENT
BEGIN:VEVENT
SUMMARY:Blocking period July/August 2022
UID:39139
DTSTART:20220713T220000Z
DTEND:20220713T220000Z
LAST-MODIFIED:20220112T000000Z
LOCATION:
END:VEVENT
BEGIN:VEVENT
SUMMARY:Blocking period July/August 2022
UID:39139
DTSTART:20220714T220000Z
DTEND:20220714T220000Z
LAST-MODIFIED:20220112T000000Z
LOCATION:
END:VEVENT
BEGIN:VEVENT
SUMMARY:Blocking period July/August 2022
UID:39139
DTSTART:20220715T220000Z
DTEND:20220715T220000Z
LAST-MODIFIED:20220112T000000Z
LOCATION:
END:VEVENT
BEGIN:VEVENT
SUMMARY:Blocking period July/August 2022
UID:39139
DTSTART:20220716T220000Z
DTEND:20220716T220000Z
LAST-MODIFIED:20220112T000000Z
LOCATION:
END:VEVENT
BEGIN:VEVENT
SUMMARY:Blocking period July/August 2022
UID:39139
DTSTART:20220717T220000Z
DTEND:20220717T220000Z
LAST-MODIFIED:20220112T000000Z
LOCATION:
END:VEVENT
BEGIN:VEVENT
SUMMARY:Blocking period July/August 2022
UID:39139
DTSTART:20220718T220000Z
DTEND:20220718T220000Z
LAST-MODIFIED:20220112T000000Z
LOCATION:
END:VEVENT
BEGIN:VEVENT
SUMMARY:Blocking period July/August 2022
UID:39139
DTSTART:20220719T220000Z
DTEND:20220719T220000Z
LAST-MODIFIED:20220112T000000Z
LOCATION:
END:VEVENT
BEGIN:VEVENT
SUMMARY:Blocking period July/August 2022
UID:39139
DTSTART:20220720T220000Z
DTEND:20220720T220000Z
LAST-MODIFIED:20220112T000000Z
LOCATION:
END:VEVENT
BEGIN:VEVENT
SUMMARY:Blocking period July/August 2022
UID:39139
DTSTART:20220721T220000Z
DTEND:20220721T220000Z
LAST-MODIFIED:20220112T000000Z
LOCATION:
END:VEVENT
BEGIN:VEVENT
SUMMARY:Blocking period July/August 2022
UID:39139
DTSTART:20220722T220000Z
DTEND:20220722T220000Z
LAST-MODIFIED:20220112T000000Z
LOCATION:
END:VEVENT
BEGIN:VEVENT
SUMMARY:Blocking period July/August 2022
UID:39139
DTSTART:20220723T220000Z
DTEND:20220723T220000Z
LAST-MODIFIED:20220112T000000Z
LOCATION:
END:VEVENT
BEGIN:VEVENT
SUMMARY:Blocking period July/August 2022
UID:39139
DTSTART:20220724T220000Z
DTEND:20220724T220000Z
LAST-MODIFIED:20220112T000000Z
LOCATION:
END:VEVENT
BEGIN:VEVENT
SUMMARY:Blocking period July/August 2022
UID:39139
DTSTART:20220725T220000Z
DTEND:20220725T220000Z
LAST-MODIFIED:20220112T000000Z
LOCATION:
END:VEVENT
BEGIN:VEVENT
SUMMARY:Blocking period July/August 2022
UID:39139
DTSTART:20220726T220000Z
DTEND:20220726T220000Z
LAST-MODIFIED:20220112T000000Z
LOCATION:
END:VEVENT
BEGIN:VEVENT
SUMMARY:Blocking period July/August 2022
UID:39139
DTSTART:20220727T220000Z
DTEND:20220727T220000Z
LAST-MODIFIED:20220112T000000Z
LOCATION:
END:VEVENT
BEGIN:VEVENT
SUMMARY:Blocking period July/August 2022
UID:39139
DTSTART:20220728T220000Z
DTEND:20220728T220000Z
LAST-MODIFIED:20220112T000000Z
LOCATION:
END:VEVENT
BEGIN:VEVENT
SUMMARY:Blocking period July/August 2022
UID:39139
DTSTART:20220729T220000Z
DTEND:20220729T220000Z
LAST-MODIFIED:20220112T000000Z
LOCATION:
END:VEVENT
BEGIN:VEVENT
SUMMARY:Blocking period July/August 2022
UID:39139
DTSTART:20220730T220000Z
DTEND:20220730T220000Z
LAST-MODIFIED:20220112T000000Z
LOCATION:
END:VEVENT
BEGIN:VEVENT
SUMMARY:Blocking period July/August 2022
UID:39139
DTSTART:20220731T220000Z
DTEND:20220731T220000Z
LAST-MODIFIED:20220112T000000Z
LOCATION:
END:VEVENT
BEGIN:VEVENT
SUMMARY:Blocking period July/August 2022
UID:39139
DTSTART:20220801T220000Z
DTEND:20220801T220000Z
LAST-MODIFIED:20220112T000000Z
LOCATION:
END:VEVENT
BEGIN:VEVENT
SUMMARY:Blocking period July/August 2022
UID:39139
DTSTART:20220802T220000Z
DTEND:20220802T220000Z
LAST-MODIFIED:20220112T000000Z
LOCATION:
END:VEVENT
END:VCALENDAR