BEGIN:VCALENDAR
METHOD:PUBLISH
VERSION:2.0
PRODID:-//IGD//IGD//IT
BEGIN:VEVENT
SUMMARY:Blocking period April/May 2022
UID:39133
DTSTART:20220404T220000Z
DTEND:20220404T220000Z
LAST-MODIFIED:20220112T000000Z
LOCATION:
END:VEVENT
BEGIN:VEVENT
SUMMARY:Blocking period April/May 2022
UID:39133
DTSTART:20220405T220000Z
DTEND:20220405T220000Z
LAST-MODIFIED:20220112T000000Z
LOCATION:
END:VEVENT
BEGIN:VEVENT
SUMMARY:Blocking period April/May 2022
UID:39133
DTSTART:20220406T220000Z
DTEND:20220406T220000Z
LAST-MODIFIED:20220112T000000Z
LOCATION:
END:VEVENT
BEGIN:VEVENT
SUMMARY:Blocking period April/May 2022
UID:39133
DTSTART:20220407T220000Z
DTEND:20220407T220000Z
LAST-MODIFIED:20220112T000000Z
LOCATION:
END:VEVENT
BEGIN:VEVENT
SUMMARY:Blocking period April/May 2022
UID:39133
DTSTART:20220408T220000Z
DTEND:20220408T220000Z
LAST-MODIFIED:20220112T000000Z
LOCATION:
END:VEVENT
BEGIN:VEVENT
SUMMARY:Blocking period April/May 2022
UID:39133
DTSTART:20220409T220000Z
DTEND:20220409T220000Z
LAST-MODIFIED:20220112T000000Z
LOCATION:
END:VEVENT
BEGIN:VEVENT
SUMMARY:Blocking period April/May 2022
UID:39133
DTSTART:20220410T220000Z
DTEND:20220410T220000Z
LAST-MODIFIED:20220112T000000Z
LOCATION:
END:VEVENT
BEGIN:VEVENT
SUMMARY:Blocking period April/May 2022
UID:39133
DTSTART:20220411T220000Z
DTEND:20220411T220000Z
LAST-MODIFIED:20220112T000000Z
LOCATION:
END:VEVENT
BEGIN:VEVENT
SUMMARY:Blocking period April/May 2022
UID:39133
DTSTART:20220412T220000Z
DTEND:20220412T220000Z
LAST-MODIFIED:20220112T000000Z
LOCATION:
END:VEVENT
BEGIN:VEVENT
SUMMARY:Blocking period April/May 2022
UID:39133
DTSTART:20220413T220000Z
DTEND:20220413T220000Z
LAST-MODIFIED:20220112T000000Z
LOCATION:
END:VEVENT
BEGIN:VEVENT
SUMMARY:Blocking period April/May 2022
UID:39133
DTSTART:20220414T220000Z
DTEND:20220414T220000Z
LAST-MODIFIED:20220112T000000Z
LOCATION:
END:VEVENT
BEGIN:VEVENT
SUMMARY:Blocking period April/May 2022
UID:39133
DTSTART:20220415T220000Z
DTEND:20220415T220000Z
LAST-MODIFIED:20220112T000000Z
LOCATION:
END:VEVENT
BEGIN:VEVENT
SUMMARY:Blocking period April/May 2022
UID:39133
DTSTART:20220416T220000Z
DTEND:20220416T220000Z
LAST-MODIFIED:20220112T000000Z
LOCATION:
END:VEVENT
BEGIN:VEVENT
SUMMARY:Blocking period April/May 2022
UID:39133
DTSTART:20220417T220000Z
DTEND:20220417T220000Z
LAST-MODIFIED:20220112T000000Z
LOCATION:
END:VEVENT
BEGIN:VEVENT
SUMMARY:Blocking period April/May 2022
UID:39133
DTSTART:20220418T220000Z
DTEND:20220418T220000Z
LAST-MODIFIED:20220112T000000Z
LOCATION:
END:VEVENT
BEGIN:VEVENT
SUMMARY:Blocking period April/May 2022
UID:39133
DTSTART:20220419T220000Z
DTEND:20220419T220000Z
LAST-MODIFIED:20220112T000000Z
LOCATION:
END:VEVENT
BEGIN:VEVENT
SUMMARY:Blocking period April/May 2022
UID:39133
DTSTART:20220420T220000Z
DTEND:20220420T220000Z
LAST-MODIFIED:20220112T000000Z
LOCATION:
END:VEVENT
BEGIN:VEVENT
SUMMARY:Blocking period April/May 2022
UID:39133
DTSTART:20220421T220000Z
DTEND:20220421T220000Z
LAST-MODIFIED:20220112T000000Z
LOCATION:
END:VEVENT
BEGIN:VEVENT
SUMMARY:Blocking period April/May 2022
UID:39133
DTSTART:20220422T220000Z
DTEND:20220422T220000Z
LAST-MODIFIED:20220112T000000Z
LOCATION:
END:VEVENT
BEGIN:VEVENT
SUMMARY:Blocking period April/May 2022
UID:39133
DTSTART:20220423T220000Z
DTEND:20220423T220000Z
LAST-MODIFIED:20220112T000000Z
LOCATION:
END:VEVENT
BEGIN:VEVENT
SUMMARY:Blocking period April/May 2022
UID:39133
DTSTART:20220424T220000Z
DTEND:20220424T220000Z
LAST-MODIFIED:20220112T000000Z
LOCATION:
END:VEVENT
BEGIN:VEVENT
SUMMARY:Blocking period April/May 2022
UID:39133
DTSTART:20220425T220000Z
DTEND:20220425T220000Z
LAST-MODIFIED:20220112T000000Z
LOCATION:
END:VEVENT
BEGIN:VEVENT
SUMMARY:Blocking period April/May 2022
UID:39133
DTSTART:20220426T220000Z
DTEND:20220426T220000Z
LAST-MODIFIED:20220112T000000Z
LOCATION:
END:VEVENT
BEGIN:VEVENT
SUMMARY:Blocking period April/May 2022
UID:39133
DTSTART:20220427T220000Z
DTEND:20220427T220000Z
LAST-MODIFIED:20220112T000000Z
LOCATION:
END:VEVENT
BEGIN:VEVENT
SUMMARY:Blocking period April/May 2022
UID:39133
DTSTART:20220428T220000Z
DTEND:20220428T220000Z
LAST-MODIFIED:20220112T000000Z
LOCATION:
END:VEVENT
BEGIN:VEVENT
SUMMARY:Blocking period April/May 2022
UID:39133
DTSTART:20220429T220000Z
DTEND:20220429T220000Z
LAST-MODIFIED:20220112T000000Z
LOCATION:
END:VEVENT
BEGIN:VEVENT
SUMMARY:Blocking period April/May 2022
UID:39133
DTSTART:20220430T220000Z
DTEND:20220430T220000Z
LAST-MODIFIED:20220112T000000Z
LOCATION:
END:VEVENT
BEGIN:VEVENT
SUMMARY:Blocking period April/May 2022
UID:39133
DTSTART:20220501T220000Z
DTEND:20220501T220000Z
LAST-MODIFIED:20220112T000000Z
LOCATION:
END:VEVENT
BEGIN:VEVENT
SUMMARY:Blocking period April/May 2022
UID:39133
DTSTART:20220502T220000Z
DTEND:20220502T220000Z
LAST-MODIFIED:20220112T000000Z
LOCATION:
END:VEVENT
BEGIN:VEVENT
SUMMARY:Blocking period April/May 2022
UID:39133
DTSTART:20220503T220000Z
DTEND:20220503T220000Z
LAST-MODIFIED:20220112T000000Z
LOCATION:
END:VEVENT
END:VCALENDAR