BEGIN:VCALENDAR
METHOD:PUBLISH
VERSION:2.0
PRODID:-//IGD//IGD//IT
BEGIN:VEVENT
SUMMARY:Blocking period January/February 2022
UID:39130
DTSTART:20220124T230000Z
DTEND:20220124T230000Z
LAST-MODIFIED:20220112T000000Z
LOCATION:
END:VEVENT
BEGIN:VEVENT
SUMMARY:Blocking period January/February 2022
UID:39130
DTSTART:20220125T230000Z
DTEND:20220125T230000Z
LAST-MODIFIED:20220112T000000Z
LOCATION:
END:VEVENT
BEGIN:VEVENT
SUMMARY:Blocking period January/February 2022
UID:39130
DTSTART:20220126T230000Z
DTEND:20220126T230000Z
LAST-MODIFIED:20220112T000000Z
LOCATION:
END:VEVENT
BEGIN:VEVENT
SUMMARY:Blocking period January/February 2022
UID:39130
DTSTART:20220127T230000Z
DTEND:20220127T230000Z
LAST-MODIFIED:20220112T000000Z
LOCATION:
END:VEVENT
BEGIN:VEVENT
SUMMARY:Blocking period January/February 2022
UID:39130
DTSTART:20220128T230000Z
DTEND:20220128T230000Z
LAST-MODIFIED:20220112T000000Z
LOCATION:
END:VEVENT
BEGIN:VEVENT
SUMMARY:Blocking period January/February 2022
UID:39130
DTSTART:20220129T230000Z
DTEND:20220129T230000Z
LAST-MODIFIED:20220112T000000Z
LOCATION:
END:VEVENT
BEGIN:VEVENT
SUMMARY:Blocking period January/February 2022
UID:39130
DTSTART:20220130T230000Z
DTEND:20220130T230000Z
LAST-MODIFIED:20220112T000000Z
LOCATION:
END:VEVENT
BEGIN:VEVENT
SUMMARY:Blocking period January/February 2022
UID:39130
DTSTART:20220131T230000Z
DTEND:20220131T230000Z
LAST-MODIFIED:20220112T000000Z
LOCATION:
END:VEVENT
BEGIN:VEVENT
SUMMARY:Blocking period January/February 2022
UID:39130
DTSTART:20220201T230000Z
DTEND:20220201T230000Z
LAST-MODIFIED:20220112T000000Z
LOCATION:
END:VEVENT
BEGIN:VEVENT
SUMMARY:Blocking period January/February 2022
UID:39130
DTSTART:20220202T230000Z
DTEND:20220202T230000Z
LAST-MODIFIED:20220112T000000Z
LOCATION:
END:VEVENT
BEGIN:VEVENT
SUMMARY:Blocking period January/February 2022
UID:39130
DTSTART:20220203T230000Z
DTEND:20220203T230000Z
LAST-MODIFIED:20220112T000000Z
LOCATION:
END:VEVENT
BEGIN:VEVENT
SUMMARY:Blocking period January/February 2022
UID:39130
DTSTART:20220204T230000Z
DTEND:20220204T230000Z
LAST-MODIFIED:20220112T000000Z
LOCATION:
END:VEVENT
BEGIN:VEVENT
SUMMARY:Blocking period January/February 2022
UID:39130
DTSTART:20220205T230000Z
DTEND:20220205T230000Z
LAST-MODIFIED:20220112T000000Z
LOCATION:
END:VEVENT
BEGIN:VEVENT
SUMMARY:Blocking period January/February 2022
UID:39130
DTSTART:20220206T230000Z
DTEND:20220206T230000Z
LAST-MODIFIED:20220112T000000Z
LOCATION:
END:VEVENT
BEGIN:VEVENT
SUMMARY:Blocking period January/February 2022
UID:39130
DTSTART:20220207T230000Z
DTEND:20220207T230000Z
LAST-MODIFIED:20220112T000000Z
LOCATION:
END:VEVENT
BEGIN:VEVENT
SUMMARY:Blocking period January/February 2022
UID:39130
DTSTART:20220208T230000Z
DTEND:20220208T230000Z
LAST-MODIFIED:20220112T000000Z
LOCATION:
END:VEVENT
BEGIN:VEVENT
SUMMARY:Blocking period January/February 2022
UID:39130
DTSTART:20220209T230000Z
DTEND:20220209T230000Z
LAST-MODIFIED:20220112T000000Z
LOCATION:
END:VEVENT
BEGIN:VEVENT
SUMMARY:Blocking period January/February 2022
UID:39130
DTSTART:20220210T230000Z
DTEND:20220210T230000Z
LAST-MODIFIED:20220112T000000Z
LOCATION:
END:VEVENT
BEGIN:VEVENT
SUMMARY:Blocking period January/February 2022
UID:39130
DTSTART:20220211T230000Z
DTEND:20220211T230000Z
LAST-MODIFIED:20220112T000000Z
LOCATION:
END:VEVENT
BEGIN:VEVENT
SUMMARY:Blocking period January/February 2022
UID:39130
DTSTART:20220212T230000Z
DTEND:20220212T230000Z
LAST-MODIFIED:20220112T000000Z
LOCATION:
END:VEVENT
BEGIN:VEVENT
SUMMARY:Blocking period January/February 2022
UID:39130
DTSTART:20220213T230000Z
DTEND:20220213T230000Z
LAST-MODIFIED:20220112T000000Z
LOCATION:
END:VEVENT
BEGIN:VEVENT
SUMMARY:Blocking period January/February 2022
UID:39130
DTSTART:20220214T230000Z
DTEND:20220214T230000Z
LAST-MODIFIED:20220112T000000Z
LOCATION:
END:VEVENT
BEGIN:VEVENT
SUMMARY:Blocking period January/February 2022
UID:39130
DTSTART:20220215T230000Z
DTEND:20220215T230000Z
LAST-MODIFIED:20220112T000000Z
LOCATION:
END:VEVENT
BEGIN:VEVENT
SUMMARY:Blocking period January/February 2022
UID:39130
DTSTART:20220216T230000Z
DTEND:20220216T230000Z
LAST-MODIFIED:20220112T000000Z
LOCATION:
END:VEVENT
BEGIN:VEVENT
SUMMARY:Blocking period January/February 2022
UID:39130
DTSTART:20220217T230000Z
DTEND:20220217T230000Z
LAST-MODIFIED:20220112T000000Z
LOCATION:
END:VEVENT
BEGIN:VEVENT
SUMMARY:Blocking period January/February 2022
UID:39130
DTSTART:20220218T230000Z
DTEND:20220218T230000Z
LAST-MODIFIED:20220112T000000Z
LOCATION:
END:VEVENT
BEGIN:VEVENT
SUMMARY:Blocking period January/February 2022
UID:39130
DTSTART:20220219T230000Z
DTEND:20220219T230000Z
LAST-MODIFIED:20220112T000000Z
LOCATION:
END:VEVENT
BEGIN:VEVENT
SUMMARY:Blocking period January/February 2022
UID:39130
DTSTART:20220220T230000Z
DTEND:20220220T230000Z
LAST-MODIFIED:20220112T000000Z
LOCATION:
END:VEVENT
BEGIN:VEVENT
SUMMARY:Blocking period January/February 2022
UID:39130
DTSTART:20220221T230000Z
DTEND:20220221T230000Z
LAST-MODIFIED:20220112T000000Z
LOCATION:
END:VEVENT
BEGIN:VEVENT
SUMMARY:Blocking period January/February 2022
UID:39130
DTSTART:20220222T230000Z
DTEND:20220222T230000Z
LAST-MODIFIED:20220112T000000Z
LOCATION:
END:VEVENT
END:VCALENDAR