BEGIN:VCALENDAR
METHOD:PUBLISH
VERSION:2.0
PRODID:-//IGD//IGD//IT
BEGIN:VEVENT
SUMMARY:Board of Directors of 4 August 2022
UID:38855
DTSTART:20220803T220000Z
DTEND:20220803T220000Z
LAST-MODIFIED:20211214T000000Z
LOCATION:
END:VEVENT
END:VCALENDAR