BEGIN:VCALENDAR
METHOD:PUBLISH
VERSION:2.0
PRODID:-//IGD//IGD//IT
BEGIN:VEVENT
SUMMARY:Conference call to present the 2022-2024 Business Plan &#8211; dial-in details
UID:38273
DTSTART:20211213T230000Z
DTEND:20211213T230000Z
LAST-MODIFIED:20211215T000000Z
LOCATION:
END:VEVENT
END:VCALENDAR