BEGIN:VCALENDAR
METHOD:PUBLISH
VERSION:2.0
PRODID:-//IGD//IGD//IT
BEGIN:VEVENT
SUMMARY:Board of Directors of 14 December 2021
UID:38268
DTSTART:20211213T230000Z
DTEND:20211213T230000Z
LAST-MODIFIED:20211129T000000Z
LOCATION:Bologna
END:VEVENT
END:VCALENDAR