BEGIN:VCALENDAR
METHOD:PUBLISH
VERSION:2.0
PRODID:-//IGD//IGD//IT
BEGIN:VEVENT
SUMMARY:Virtual STAR Conference Fall Edition 2021
UID:36435
DTSTART:20211012T220000Z
DTEND:20211012T220000Z
LAST-MODIFIED:20210712T000000Z
LOCATION:
END:VEVENT
END:VCALENDAR