BEGIN:VCALENDAR
METHOD:PUBLISH
VERSION:2.0
PRODID:-//IGD//IGD//IT
BEGIN:VEVENT
SUMMARY:Virtual Epra Corporate Access Day 2021 winter edition
UID:36423
DTSTART:20211123T230000Z
DTEND:20211123T230000Z
LAST-MODIFIED:20210915T000000Z
LOCATION:
END:VEVENT
END:VCALENDAR