BEGIN:VCALENDAR
METHOD:PUBLISH
VERSION:2.0
PRODID:-//IGD//IGD//IT
BEGIN:VEVENT
SUMMARY:MAPIC Cannes 2021
UID:35894
DTSTART:20211129T230000Z
DTEND:20211129T230000Z
LAST-MODIFIED:20211118T000000Z
LOCATION:Cannes
END:VEVENT
BEGIN:VEVENT
SUMMARY:MAPIC Cannes 2021
UID:35894
DTSTART:20211130T230000Z
DTEND:20211130T230000Z
LAST-MODIFIED:20211118T000000Z
LOCATION:Cannes
END:VEVENT
BEGIN:VEVENT
SUMMARY:MAPIC Cannes 2021
UID:35894
DTSTART:20211201T230000Z
DTEND:20211201T230000Z
LAST-MODIFIED:20211118T000000Z
LOCATION:Cannes
END:VEVENT
END:VCALENDAR