BEGIN:VCALENDAR
METHOD:PUBLISH
VERSION:2.0
PRODID:-//IGD//IGD//IT
BEGIN:VEVENT
SUMMARY:MAPIC Italy 2021
UID:35889
DTSTART:20210913T220000Z
DTEND:20210913T220000Z
LAST-MODIFIED:20210909T000000Z
LOCATION:Milano
END:VEVENT
BEGIN:VEVENT
SUMMARY:MAPIC Italy 2021
UID:35889
DTSTART:20210914T220000Z
DTEND:20210914T220000Z
LAST-MODIFIED:20210909T000000Z
LOCATION:Milano
END:VEVENT
END:VCALENDAR