BEGIN:VCALENDAR
METHOD:PUBLISH
VERSION:2.0
PRODID:-//IGD//IGD//IT
BEGIN:VEVENT
SUMMARY:EPRA Conference 2021
UID:35710
DTSTART:20210919T220000Z
DTEND:20210919T220000Z
LAST-MODIFIED:20210526T000000Z
LOCATION:
END:VEVENT
BEGIN:VEVENT
SUMMARY:EPRA Conference 2021
UID:35710
DTSTART:20210920T220000Z
DTEND:20210920T220000Z
LAST-MODIFIED:20210526T000000Z
LOCATION:
END:VEVENT
BEGIN:VEVENT
SUMMARY:EPRA Conference 2021
UID:35710
DTSTART:20210921T220000Z
DTEND:20210921T220000Z
LAST-MODIFIED:20210526T000000Z
LOCATION:
END:VEVENT
BEGIN:VEVENT
SUMMARY:EPRA Conference 2021
UID:35710
DTSTART:20210922T220000Z
DTEND:20210922T220000Z
LAST-MODIFIED:20210526T000000Z
LOCATION:
END:VEVENT
BEGIN:VEVENT
SUMMARY:EPRA Conference 2021
UID:35710
DTSTART:20210923T220000Z
DTEND:20210923T220000Z
LAST-MODIFIED:20210526T000000Z
LOCATION:
END:VEVENT
END:VCALENDAR