BEGIN:VCALENDAR
METHOD:PUBLISH
VERSION:2.0
PRODID:-//IGD//IGD//IT
BEGIN:VEVENT
SUMMARY:Italian Equity Week 2021 &#8211; Consumer Day
UID:35703
DTSTART:20210906T220000Z
DTEND:20210906T220000Z
LAST-MODIFIED:20210526T000000Z
LOCATION:
END:VEVENT
END:VCALENDAR