BEGIN:VCALENDAR
METHOD:PUBLISH
VERSION:2.0
PRODID:-//IGD//IGD//IT
BEGIN:VEVENT
SUMMARY:Italian Sustainability Week 2021 &#8211; Virtual Edition
UID:35698
DTSTART:20210627T220000Z
DTEND:20210627T220000Z
LAST-MODIFIED:20210630T000000Z
LOCATION:
END:VEVENT
BEGIN:VEVENT
SUMMARY:Italian Sustainability Week 2021 &#8211; Virtual Edition
UID:35698
DTSTART:20210628T220000Z
DTEND:20210628T220000Z
LAST-MODIFIED:20210630T000000Z
LOCATION:
END:VEVENT
BEGIN:VEVENT
SUMMARY:Italian Sustainability Week 2021 &#8211; Virtual Edition
UID:35698
DTSTART:20210629T220000Z
DTEND:20210629T220000Z
LAST-MODIFIED:20210630T000000Z
LOCATION:
END:VEVENT
BEGIN:VEVENT
SUMMARY:Italian Sustainability Week 2021 &#8211; Virtual Edition
UID:35698
DTSTART:20210630T220000Z
DTEND:20210630T220000Z
LAST-MODIFIED:20210630T000000Z
LOCATION:
END:VEVENT
BEGIN:VEVENT
SUMMARY:Italian Sustainability Week 2021 &#8211; Virtual Edition
UID:35698
DTSTART:20210701T220000Z
DTEND:20210701T220000Z
LAST-MODIFIED:20210630T000000Z
LOCATION:
END:VEVENT
END:VCALENDAR