BEGIN:VCALENDAR
METHOD:PUBLISH
VERSION:2.0
PRODID:-//IGD//IGD//IT
BEGIN:VEVENT
SUMMARY:Mid&#038;Small Virtual Spring
UID:35692
DTSTART:20210614T220000Z
DTEND:20210614T220000Z
LAST-MODIFIED:20210630T000000Z
LOCATION:
END:VEVENT
BEGIN:VEVENT
SUMMARY:Mid&#038;Small Virtual Spring
UID:35692
DTSTART:20210615T220000Z
DTEND:20210615T220000Z
LAST-MODIFIED:20210630T000000Z
LOCATION:
END:VEVENT
BEGIN:VEVENT
SUMMARY:Mid&#038;Small Virtual Spring
UID:35692
DTSTART:20210616T220000Z
DTEND:20210616T220000Z
LAST-MODIFIED:20210630T000000Z
LOCATION:
END:VEVENT
END:VCALENDAR