BEGIN:VCALENDAR
METHOD:PUBLISH
VERSION:2.0
PRODID:-//IGD//IGD//IT
BEGIN:VEVENT
SUMMARY:Virtual roadshow with Banca Akros
UID:35686
DTSTART:20210530T220000Z
DTEND:20210530T220000Z
LAST-MODIFIED:20210630T000000Z
LOCATION:
END:VEVENT
END:VCALENDAR