BEGIN:VCALENDAR
METHOD:PUBLISH
VERSION:2.0
PRODID:-//IGD//IGD//IT
BEGIN:VEVENT
SUMMARY:Conference call to present the results as at 30 September 2021 &#8211; dial-in details
UID:35682
DTSTART:20211103T230000Z
DTEND:20211103T230000Z
LAST-MODIFIED:20211104T000000Z
LOCATION:
END:VEVENT
END:VCALENDAR