BEGIN:VCALENDAR
METHOD:PUBLISH
VERSION:2.0
PRODID:-//IGD//IGD//IT
BEGIN:VEVENT
SUMMARY:Conference call to present the results as at 30 June 2021 &#8211; dial-in details
UID:35677
DTSTART:20210806T100000Z
DTEND:20210806T100000Z
LAST-MODIFIED:20210806T000000Z
LOCATION:
END:VEVENT
END:VCALENDAR