BEGIN:VCALENDAR
METHOD:PUBLISH
VERSION:2.0
PRODID:-//IGD//IGD//IT
BEGIN:VEVENT
SUMMARY:Virtual roadshow with Intesa Sanpaolo-IMI
UID:34171
DTSTART:20210328T220000Z
DTEND:20210328T220000Z
LAST-MODIFIED:20210329T000000Z
LOCATION:
END:VEVENT
END:VCALENDAR